BEGIN:VCALENDAR
VERSION:2.0
PRODID:-//Vicksburg Historical Society - ECPv6.15.20//NONSGML v1.0//EN
CALSCALE:GREGORIAN
METHOD:PUBLISH
X-WR-CALNAME:Vicksburg Historical Society
X-ORIGINAL-URL:https://vicksburghistory.org
X-WR-CALDESC:Events for Vicksburg Historical Society
REFRESH-INTERVAL;VALUE=DURATION:PT1H
X-Robots-Tag:noindex
X-PUBLISHED-TTL:PT1H
BEGIN:VTIMEZONE
TZID:UTC
BEGIN:STANDARD
TZOFFSETFROM:+0000
TZOFFSETTO:+0000
TZNAME:UTC
DTSTART:20250101T000000
END:STANDARD
END:VTIMEZONE
BEGIN:VEVENT
DTSTART;TZID=UTC:20260311T181500
DTEND;TZID=UTC:20260311T193000
DTSTAMP:20260423T005133
CREATED:20260223T213650Z
LAST-MODIFIED:20260223T213650Z
UID:4299-1773252900-1773257400@vicksburghistory.org
SUMMARY:Vicksburg Historical Society Board Meeting
DESCRIPTION:Vicksburg Historical Society Board meetings are held the second Wednesday of every month at 6:15pm at the Depot Museum. Meetings are open to the public.
URL:https://vicksburghistory.org/event/vicksburg-historical-society-board-meeting-26/
END:VEVENT
END:VCALENDAR