BEGIN:VCALENDAR
VERSION:2.0
PRODID:-//Vicksburg Historical Society - ECPv6.15.20//NONSGML v1.0//EN
CALSCALE:GREGORIAN
METHOD:PUBLISH
X-ORIGINAL-URL:https://vicksburghistory.org
X-WR-CALDESC:Events for Vicksburg Historical Society
REFRESH-INTERVAL;VALUE=DURATION:PT1H
X-Robots-Tag:noindex
X-PUBLISHED-TTL:PT1H
BEGIN:VTIMEZONE
TZID:UTC
BEGIN:STANDARD
TZOFFSETFROM:+0000
TZOFFSETTO:+0000
TZNAME:UTC
DTSTART:20250101T000000
END:STANDARD
END:VTIMEZONE
BEGIN:VEVENT
DTSTART;TZID=UTC:20260425T110000
DTEND;TZID=UTC:20260425T170000
DTSTAMP:20260423T034834
CREATED:20260308T225043Z
LAST-MODIFIED:20260308T225210Z
UID:4303-1777114800-1777136400@vicksburghistory.org
SUMMARY:Pulp & Press Lit Arts Festival
DESCRIPTION:Pulp & Press Lit Arts Festival \nHost Site and Printing Press Demonstrations \nA two-day celebration of the literary arts for all ages. The Vicksburg Historic Village and Depot Museum will be hosting authors and performing printing press demonstrations in the Newspaper Office and Print Shop throughout the day.
URL:https://vicksburghistory.org/event/pulp-press-lit-arts-festival/
LOCATION:Vicksburg Historic Village\, 300 N. Richardson\, Vicksburg\, MI\, 49097\, United States
END:VEVENT
END:VCALENDAR