BEGIN:VCALENDAR
VERSION:2.0
PRODID:-//Vicksburg Historical Society - ECPv6.15.20//NONSGML v1.0//EN
CALSCALE:GREGORIAN
METHOD:PUBLISH
X-WR-CALNAME:Vicksburg Historical Society
X-ORIGINAL-URL:https://vicksburghistory.org
X-WR-CALDESC:Events for Vicksburg Historical Society
REFRESH-INTERVAL;VALUE=DURATION:PT1H
X-Robots-Tag:noindex
X-PUBLISHED-TTL:PT1H
BEGIN:VTIMEZONE
TZID:UTC
BEGIN:STANDARD
TZOFFSETFROM:+0000
TZOFFSETTO:+0000
TZNAME:UTC
DTSTART:20250101T000000
END:STANDARD
END:VTIMEZONE
BEGIN:VEVENT
DTSTART;TZID=UTC:20260428T183000
DTEND;TZID=UTC:20260428T203000
DTSTAMP:20260423T034443
CREATED:20260322T203341Z
LAST-MODIFIED:20260322T203341Z
UID:4318-1777401000-1777408200@vicksburghistory.org
SUMMARY:Roots & Branches
DESCRIPTION:Join us for our genealogy series “Roots & Branches” this spring and summer. Each month and local or state organization will share what resources they offer for family researchers.\nTo kickoff\, on April 28 we will hear from Leah Milowe sharing what treasures can be found in the VHS archives. \nAttendees are encouraged to stick around after the presentation to work on research and seek assistance from the VHS staff and other attendees. Computers are limited\, so please bring a laptop if able. \n\nRSVP the following ways:\nOnline: https://forms.gle/emnfThFc1dLZevGA7\nCall us at (269) 649-1733 or send an email to info@vicksburghistory.org
URL:https://vicksburghistory.org/event/roots-branches/
LOCATION:Vicksburg Depot Museum\, 300 N. Richardson\, Vicksburg\, MI\, 49097\, United States
END:VEVENT
END:VCALENDAR