BEGIN:VCALENDAR
VERSION:2.0
PRODID:-//Vicksburg Historical Society - ECPv6.15.20//NONSGML v1.0//EN
CALSCALE:GREGORIAN
METHOD:PUBLISH
X-ORIGINAL-URL:https://vicksburghistory.org
X-WR-CALDESC:Events for Vicksburg Historical Society
REFRESH-INTERVAL;VALUE=DURATION:PT1H
X-Robots-Tag:noindex
X-PUBLISHED-TTL:PT1H
BEGIN:VTIMEZONE
TZID:UTC
BEGIN:STANDARD
TZOFFSETFROM:+0000
TZOFFSETTO:+0000
TZNAME:UTC
DTSTART:20250101T000000
END:STANDARD
END:VTIMEZONE
BEGIN:VEVENT
DTSTART;TZID=UTC:20260509T130000
DTEND;TZID=UTC:20260509T160000
DTSTAMP:20260423T051306
CREATED:20260322T204105Z
LAST-MODIFIED:20260322T204105Z
UID:4322-1778331600-1778342400@vicksburghistory.org
SUMMARY:National Train Day
DESCRIPTION:Celebrate the completion of the transcontinental railroad in 1869 with a visit to the Depot Museum! \nOn Saturday\, May 9 the Depot Museum will be open 11am-5pm. Learn about local railroad history\, check out the caboose and box car\, view trains from the Station Master’s Office (the BEST place to watch a train go by). \nFrom 1pm-4pm\, enjoy a train craft\, demonstrations\, and more! Check back for more details.
URL:https://vicksburghistory.org/event/national-train-day/
LOCATION:Vicksburg Depot Museum\, 300 N. Richardson\, Vicksburg\, MI\, 49097\, United States
END:VEVENT
END:VCALENDAR