BEGIN:VCALENDAR
VERSION:2.0
PRODID:-//Vicksburg Historical Society - ECPv6.15.20//NONSGML v1.0//EN
CALSCALE:GREGORIAN
METHOD:PUBLISH
X-WR-CALNAME:Vicksburg Historical Society
X-ORIGINAL-URL:https://vicksburghistory.org
X-WR-CALDESC:Events for Vicksburg Historical Society
REFRESH-INTERVAL;VALUE=DURATION:PT1H
X-Robots-Tag:noindex
X-PUBLISHED-TTL:PT1H
BEGIN:VTIMEZONE
TZID:UTC
BEGIN:STANDARD
TZOFFSETFROM:+0000
TZOFFSETTO:+0000
TZNAME:UTC
DTSTART:20240101T000000
END:STANDARD
END:VTIMEZONE
BEGIN:VEVENT
DTSTART;TZID=UTC:20251206T110000
DTEND;TZID=UTC:20251206T160000
DTSTAMP:20260423T044844
CREATED:20251016T234153Z
LAST-MODIFIED:20251016T234153Z
UID:4254-1765018800-1765036800@vicksburghistory.org
SUMMARY:Holidays with the Vicksburg Historical Society
DESCRIPTION:Make memories at the Vicksburg Depot Museum on Saturdays in December!\nJoin us Saturday\, December 6\, 13\, 20\, and 27\, 11am-4pm for activities for all ages:\n\n\nCheck out our model train layout where volunteers will operate the train\, chat about the layout\, and even teach you to operate the controls!\nMake a beaded decoration/ornament or color a picture to take home after visiting the model train!\nTake a stroll or drive through Christmas Card Lane.\n\nWe can’t wait to see you!
URL:https://vicksburghistory.org/event/holidays-with-the-vicksburg-historical-society-4/
LOCATION:Vicksburg Historic Village\, 300 N. Richardson\, Vicksburg\, MI\, 49097\, United States
END:VEVENT
BEGIN:VEVENT
DTSTART;TZID=UTC:20251210T181500
DTEND;TZID=UTC:20251210T181500
DTSTAMP:20260423T044844
CREATED:20250130T173930Z
LAST-MODIFIED:20250130T173930Z
UID:3959-1765390500-1765390500@vicksburghistory.org
SUMMARY:Vicksburg Historical Society Board Meeting
DESCRIPTION:Vicksburg Historical Society Board meetings are held the second Wednesday of every month at 6:15pm at the Depot Museum. Meetings are open to the public.
URL:https://vicksburghistory.org/event/vicksburg-historical-society-board-meeting-25/
LOCATION:Vicksburg Depot Museum\, 300 N. Richardson\, Vicksburg\, MI\, 49097\, United States
END:VEVENT
BEGIN:VEVENT
DTSTART;TZID=UTC:20251213T110000
DTEND;TZID=UTC:20251213T160000
DTSTAMP:20260423T044844
CREATED:20251016T234804Z
LAST-MODIFIED:20251016T234804Z
UID:4256-1765623600-1765641600@vicksburghistory.org
SUMMARY:Holidays with the Vicksburg Historical Society
DESCRIPTION:Join us Saturday\, December 6\, 13\, 20\, and 27\, 11am-4pm for activities for all ages:\n\n\nCheck out our model train layout where volunteers will operate the train\, chat about the layout\, and even teach you to operate the controls!\nMake a beaded decoration/ornament or color a picture to take home after visiting the model train!\nTake a stroll or drive through Christmas Card Lane.\n\nWe can’t wait to see you!
URL:https://vicksburghistory.org/event/holidays-with-the-vicksburg-historical-society-5/
LOCATION:Vicksburg Historic Village\, 300 N. Richardson\, Vicksburg\, MI\, 49097\, United States
END:VEVENT
BEGIN:VEVENT
DTSTART;TZID=UTC:20251220T110000
DTEND;TZID=UTC:20251220T160000
DTSTAMP:20260423T044844
CREATED:20251016T234909Z
LAST-MODIFIED:20251016T235349Z
UID:4258-1766228400-1766246400@vicksburghistory.org
SUMMARY:Holidays with the Vicksburg Historical Society
DESCRIPTION:Join us Saturday\, December 6\, 13\, 20\, and 27\, 11am-4pm for activities for all ages: \n\n\n\nCheck out our model train layout where volunteers will operate the train\, chat about the layout\, and even teach you to operate the controls!\nMake a beaded decoration/ornament or color a picture to take home after visiting the model train!\nTake a stroll or drive through Christmas Card Lane.\n\nWe can’t wait to see you!
URL:https://vicksburghistory.org/event/holidays-with-the-vicksburg-historical-society-6/
LOCATION:Vicksburg Historic Village\, 300 N. Richardson\, Vicksburg\, MI\, 49097\, United States
END:VEVENT
BEGIN:VEVENT
DTSTART;TZID=UTC:20251227T110000
DTEND;TZID=UTC:20251227T160000
DTSTAMP:20260423T044844
CREATED:20251016T235235Z
LAST-MODIFIED:20251016T235524Z
UID:4262-1766833200-1766851200@vicksburghistory.org
SUMMARY:Holidays with the Vicksburg Historical Society
DESCRIPTION:Join us Saturday\, December 6\, 13\, 20\, and 27\, 11am-4pm for activities for all ages: \n\n\n\nCheck out our model train layout where volunteers will operate the train\, chat about the layout\, and even teach you to operate the controls!\nMake a beaded decoration/ornament or color a picture to take home after visiting the model train!\nTake a stroll or drive through Christmas Card Lane.\n\nWe can’t wait to see you!
URL:https://vicksburghistory.org/event/holidays-with-the-vicksburg-historical-society-7/
LOCATION:Vicksburg Historic Village\, 300 N. Richardson\, Vicksburg\, MI\, 49097\, United States
END:VEVENT
END:VCALENDAR